BEGIN:VCALENDAR
VERSION:2.0
PRODID:-//CAI Salò - ECPv6.8.3//NONSGML v1.0//EN
CALSCALE:GREGORIAN
METHOD:PUBLISH
X-WR-CALNAME:CAI Salò
X-ORIGINAL-URL:https://www.caisalo.it
X-WR-CALDESC:Eventi per CAI Salò
REFRESH-INTERVAL;VALUE=DURATION:PT1H
X-Robots-Tag:noindex
X-PUBLISHED-TTL:PT1H
BEGIN:VTIMEZONE
TZID:Europe/Rome
BEGIN:DAYLIGHT
TZOFFSETFROM:+0100
TZOFFSETTO:+0200
TZNAME:CEST
DTSTART:20260329T010000
END:DAYLIGHT
BEGIN:STANDARD
TZOFFSETFROM:+0200
TZOFFSETTO:+0100
TZNAME:CET
DTSTART:20261025T010000
END:STANDARD
END:VTIMEZONE
BEGIN:VEVENT
DTSTART;VALUE=DATE:20260111
DTEND;VALUE=DATE:20260112
DTSTAMP:20260419T215515
CREATED:20260103T202744Z
LAST-MODIFIED:20260103T204741Z
UID:11018-1768089600-1768175999@www.caisalo.it
SUMMARY:Giro del lago di Ledro
DESCRIPTION: Giro del lago di Ledro \n			\n				\n				\n				\n				\n				 Domenica 11 Gennaio 2026 \n			\n				\n				\n				\n				\n				\n			\n				\n				\n				\n				\n				 Ritrovo: ore 7:45 – Centro Agricolo Salò \n			\n				\n				\n				\n				\n				 Dislivello: 250 m \n			\n				\n				\n				\n				\n				 Durata: 4 ore – 10 km \n			\n				\n				\n				\n				\n				 Difficoltà: E \n			\n				\n				\n				\n				\n				 Coordinatore: Eros Pomarè \n			\n				\n				\n				\n				\n				Descrizione\nFacile escursione intorno al Lago di Ledro\, circa 10km. In senso orario\, alternando dei sentieri con dei tratti di asfalto e parte della ciclabile. A pranzo ci fermiamo alla Steakhuose Pizzeria a Molina di Ledro. Menù libero. Al termine\, opzionale\, una breve passeggiata alla Chiesa dell’Addolorata. Rientro previsto per metà pomeriggio. \n			\n				\n				\n				\n				\n				Importante\nLa partecipazione implica la piena conoscenza e accettazione del regolamento gite CAI Salò. \nPer i non soci CAI è richiesto un contributo di € 15\, comprensivo di spese organizzative e copertura assicurativa.
URL:https://www.caisalo.it/event/giro-del-lago-di-ledro/
LOCATION:Centro Agricolo di Salò
CATEGORIES:Gita Escursionistica
END:VEVENT
BEGIN:VEVENT
DTSTART;VALUE=DATE:20260118
DTEND;VALUE=DATE:20260119
DTSTAMP:20260419T215515
CREATED:20260102T183235Z
LAST-MODIFIED:20260105T143548Z
UID:10880-1768694400-1768780799@www.caisalo.it
SUMMARY:Ciaspolata alle cascate di Vallesinella
DESCRIPTION: Ciaspolata alle cascate di Vallesinella \n			\n				\n				\n				\n				\n				 Domenica 18 Gennaio 2026 \n			\n				\n				\n				\n				\n				\n			\n				\n				\n				\n				\n				 Ritrovo: ore 5.45 – Centro Agricolo Salò \n			\n				\n				\n				\n				\n				 Dislivello: 700 m\n			\n				\n				\n				\n				\n				 Durata: 6–7 ore – 12 km\n			\n				\n				\n				\n				\n				 Difficoltà: EAI\n			\n				\n				\n				\n				\n				 Coordinatore: Monica Fucina\n			\n				\n				\n				\n				\n				Descrizione\nLe cascate di Vallesinella con la neve offrono uno spettacolo mozzafiato\, trasformandosi in sculture di ghiaccio\, ma l’escursione richiede attrezzatura adeguata come ciaspole (in caso di neve fresca) e ramponcini per i tratti ghiacciati\, specialmente per avvicinarsi dietro lecascate.Si parte da prato della casa (Vallesinella) e si segue il sentiero che si snoda tra boschi innevati fino alle cascate ghiacciate di mezzo ed alte.Dalle cascate si prosegue verso il rifugio Casinei per poi ritornare con un giro ad anello a Prato della casa. \n			\n				\n				\n				\n				\n				Importante\nÈ richiesta attrezzatura adeguata: ciaspole in caso di neve fresca e ramponcini per tratti ghiacciati\, specialmente per avvicinarsi dietro le cascate!
URL:https://www.caisalo.it/event/ciaspolata-cascate-di-vallesinella/
LOCATION:Centro Agricolo di Salò
CATEGORIES:Gita Escursionistica
END:VEVENT
END:VCALENDAR