BEGIN:VCALENDAR
VERSION:2.0
PRODID:-//CAI Salò - ECPv6.8.3//NONSGML v1.0//EN
CALSCALE:GREGORIAN
METHOD:PUBLISH
X-ORIGINAL-URL:https://www.caisalo.it
X-WR-CALDESC:Eventi per CAI Salò
REFRESH-INTERVAL;VALUE=DURATION:PT1H
X-Robots-Tag:noindex
X-PUBLISHED-TTL:PT1H
BEGIN:VTIMEZONE
TZID:Europe/Rome
BEGIN:DAYLIGHT
TZOFFSETFROM:+0100
TZOFFSETTO:+0200
TZNAME:CEST
DTSTART:20260329T010000
END:DAYLIGHT
BEGIN:STANDARD
TZOFFSETFROM:+0200
TZOFFSETTO:+0100
TZNAME:CET
DTSTART:20261025T010000
END:STANDARD
END:VTIMEZONE
BEGIN:VEVENT
DTSTART;VALUE=DATE:20260427
DTEND;VALUE=DATE:20260503
DTSTAMP:20260419T215558
CREATED:20260131T154009Z
LAST-MODIFIED:20260131T154958Z
UID:12075-1777248000-1777766399@www.caisalo.it
SUMMARY:G.T.E. Grande Traversata Elbana
DESCRIPTION:Ritrovo: ore 5.45 – Centro Agricolo Salò \n			\n				\n				\n				\n				\n				 Dislivello: \n			\n				\n				\n				\n				\n				 Durata: \n			\n				\n				\n				\n				\n				 Difficoltà: \n			\n				\n				\n				\n				\n				 Coordinatore: \n			\n				\n				\n				\n				\n				Descrizione \n			\n				\n				\n				\n				\n				Importante\n\nLa partecipazione implica la piena conoscenza e accettazione del regolamento gite CAI Salò .\nPer i non soci CAI è richiesto un contributo di €15\, comprensivo di spese organizzative e copertura assicurativa.
URL:https://www.caisalo.it/event/g-t-e-grande-traversata-elbana/
CATEGORIES:Gita Escursionistica
END:VEVENT
BEGIN:VEVENT
DTSTART;VALUE=DATE:20260503
DTEND;VALUE=DATE:20260504
DTSTAMP:20260419T215558
CREATED:20260131T154010Z
LAST-MODIFIED:20260131T155316Z
UID:12076-1777766400-1777852799@www.caisalo.it
SUMMARY:Speleologia didattica - Monte Budellone
DESCRIPTION:Ritrovo: ore 5.45 – Centro Agricolo Salò \n			\n				\n				\n				\n				\n				 Dislivello: \n			\n				\n				\n				\n				\n				 Durata: \n			\n				\n				\n				\n				\n				 Difficoltà: \n			\n				\n				\n				\n				\n				 Coordinatore: \n			\n				\n				\n				\n				\n				Descrizione \n			\n				\n				\n				\n				\n				Importante\n\nLa partecipazione implica la piena conoscenza e accettazione del regolamento gite CAI Salò .\nPer i non soci CAI è richiesto un contributo di €15\, comprensivo di spese organizzative e copertura assicurativa.
URL:https://www.caisalo.it/event/speleologia-didattica-monte-budellone/
CATEGORIES:Gita Escursionistica
END:VEVENT
BEGIN:VEVENT
DTSTART;VALUE=DATE:20260510
DTEND;VALUE=DATE:20260511
DTSTAMP:20260419T215558
CREATED:20260131T160425Z
LAST-MODIFIED:20260131T160935Z
UID:12123-1778371200-1778457599@www.caisalo.it
SUMMARY:Ferrata Gerardo Sega
DESCRIPTION:Ritrovo: ore 5.45 – Centro Agricolo Salò \n			\n				\n				\n				\n				\n				 Dislivello: \n			\n				\n				\n				\n				\n				 Durata: \n			\n				\n				\n				\n				\n				 Difficoltà: \n			\n				\n				\n				\n				\n				 Coordinatore: \n			\n				\n				\n				\n				\n				Descrizione \n			\n				\n				\n				\n				\n				Importante\n\nLa partecipazione implica la piena conoscenza e accettazione del regolamento gite CAI Salò .\nPer i non soci CAI è richiesto un contributo di €15\, comprensivo di spese organizzative e copertura assicurativa.
URL:https://www.caisalo.it/event/ferrata-gerardo-sega/
CATEGORIES:Gita Escursionistica
END:VEVENT
BEGIN:VEVENT
DTSTART;VALUE=DATE:20260517
DTEND;VALUE=DATE:20260518
DTSTAMP:20260419T215559
CREATED:20260131T160425Z
LAST-MODIFIED:20260131T163528Z
UID:12124-1778976000-1779062399@www.caisalo.it
SUMMARY:Monte Guglielmo
DESCRIPTION:
URL:https://www.caisalo.it/event/monte-guglielmo/
CATEGORIES:Gita Escursionistica
END:VEVENT
BEGIN:VEVENT
DTSTART;VALUE=DATE:20260523
DTEND;VALUE=DATE:20260525
DTSTAMP:20260419T215559
CREATED:20260131T160425Z
LAST-MODIFIED:20260131T160945Z
UID:12125-1779494400-1779667199@www.caisalo.it
SUMMARY:Rifugio Menaggio lago di Como
DESCRIPTION:Ritrovo: ore 5.45 – Centro Agricolo Salò \n			\n				\n				\n				\n				\n				 Dislivello: \n			\n				\n				\n				\n				\n				 Durata: \n			\n				\n				\n				\n				\n				 Difficoltà: \n			\n				\n				\n				\n				\n				 Coordinatore: \n			\n				\n				\n				\n				\n				Descrizione \n			\n				\n				\n				\n				\n				Importante\n\nLa partecipazione implica la piena conoscenza e accettazione del regolamento gite CAI Salò .\nPer i non soci CAI è richiesto un contributo di €15\, comprensivo di spese organizzative e copertura assicurativa.
URL:https://www.caisalo.it/event/rifugio-menaggio-lago-di-como/
CATEGORIES:Gita Escursionistica
END:VEVENT
BEGIN:VEVENT
DTSTART;VALUE=DATE:20260531
DTEND;VALUE=DATE:20260601
DTSTAMP:20260419T215559
CREATED:20260131T160426Z
LAST-MODIFIED:20260131T160949Z
UID:12126-1780185600-1780271999@www.caisalo.it
SUMMARY:Cascina Pavarì - Festa del Sole
DESCRIPTION:Ritrovo: ore 5.45 – Centro Agricolo Salò \n			\n				\n				\n				\n				\n				 Dislivello: \n			\n				\n				\n				\n				\n				 Durata: \n			\n				\n				\n				\n				\n				 Difficoltà: \n			\n				\n				\n				\n				\n				 Coordinatore: \n			\n				\n				\n				\n				\n				Descrizione \n			\n				\n				\n				\n				\n				Importante\n\nLa partecipazione implica la piena conoscenza e accettazione del regolamento gite CAI Salò .\nPer i non soci CAI è richiesto un contributo di €15\, comprensivo di spese organizzative e copertura assicurativa.
URL:https://www.caisalo.it/event/cascina-pavari-festa-del-sole/
CATEGORIES:Gita Escursionistica
ORGANIZER;CN="Cai Salo'":MAILTO:caisalo@libero.it
END:VEVENT
END:VCALENDAR