BEGIN:VCALENDAR
VERSION:2.0
PRODID:-//CAI Salò - ECPv6.8.3//NONSGML v1.0//EN
CALSCALE:GREGORIAN
METHOD:PUBLISH
X-WR-CALNAME:CAI Salò
X-ORIGINAL-URL:https://www.caisalo.it
X-WR-CALDESC:Eventi per CAI Salò
REFRESH-INTERVAL;VALUE=DURATION:PT1H
X-Robots-Tag:noindex
X-PUBLISHED-TTL:PT1H
BEGIN:VTIMEZONE
TZID:Europe/Rome
BEGIN:DAYLIGHT
TZOFFSETFROM:+0100
TZOFFSETTO:+0200
TZNAME:CEST
DTSTART:20260329T010000
END:DAYLIGHT
BEGIN:STANDARD
TZOFFSETFROM:+0200
TZOFFSETTO:+0100
TZNAME:CET
DTSTART:20261025T010000
END:STANDARD
END:VTIMEZONE
BEGIN:VEVENT
DTSTART;VALUE=DATE:20260418
DTEND;VALUE=DATE:20260419
DTSTAMP:20260419T211642
CREATED:20260131T154004Z
LAST-MODIFIED:20260131T154941Z
UID:12072-1776470400-1776556799@www.caisalo.it
SUMMARY:Giro del lago d'Idro
DESCRIPTION:Ritrovo: ore 5.45 – Centro Agricolo Salò \n			\n				\n				\n				\n				\n				 Dislivello: \n			\n				\n				\n				\n				\n				 Durata: \n			\n				\n				\n				\n				\n				 Difficoltà: \n			\n				\n				\n				\n				\n				 Coordinatore: \n			\n				\n				\n				\n				\n				Descrizione \n			\n				\n				\n				\n				\n				Importante\n\nLa partecipazione implica la piena conoscenza e accettazione del regolamento gite CAI Salò .\nPer i non soci CAI è richiesto un contributo di €15\, comprensivo di spese organizzative e copertura assicurativa.
URL:https://www.caisalo.it/event/giro-del-lago-didro/
CATEGORIES:Gita Escursionistica
END:VEVENT
BEGIN:VEVENT
DTSTART;VALUE=DATE:20260412
DTEND;VALUE=DATE:20260413
DTSTAMP:20260419T211643
CREATED:20260131T154004Z
LAST-MODIFIED:20260131T154938Z
UID:12071-1775952000-1776038399@www.caisalo.it
SUMMARY:Cima Piemp con note di Ornitologia
DESCRIPTION:Ritrovo: ore 5.45 – Centro Agricolo Salò \n			\n				\n				\n				\n				\n				 Dislivello: \n			\n				\n				\n				\n				\n				 Durata: \n			\n				\n				\n				\n				\n				 Difficoltà: \n			\n				\n				\n				\n				\n				 Coordinatore: \n			\n				\n				\n				\n				\n				Descrizione \n			\n				\n				\n				\n				\n				Importante\n\nLa partecipazione implica la piena conoscenza e accettazione del regolamento gite CAI Salò .\nPer i non soci CAI è richiesto un contributo di €15\, comprensivo di spese organizzative e copertura assicurativa.
URL:https://www.caisalo.it/event/cima-piemp-con-note-di-ornitologia/
CATEGORIES:Gita Escursionistica
END:VEVENT
BEGIN:VEVENT
DTSTART;VALUE=DATE:20260404
DTEND;VALUE=DATE:20260405
DTSTAMP:20260419T211643
CREATED:20260131T154003Z
LAST-MODIFIED:20260131T154932Z
UID:12070-1775260800-1775347199@www.caisalo.it
SUMMARY:Notturna al Pizzocolo
DESCRIPTION:Ritrovo: ore 5.45 – Centro Agricolo Salò \n			\n				\n				\n				\n				\n				 Dislivello: \n			\n				\n				\n				\n				\n				 Durata: \n			\n				\n				\n				\n				\n				 Difficoltà: \n			\n				\n				\n				\n				\n				 Coordinatore: \n			\n				\n				\n				\n				\n				Descrizione \n			\n				\n				\n				\n				\n				Importante\n\nLa partecipazione implica la piena conoscenza e accettazione del regolamento gite CAI Salò .\nPer i non soci CAI è richiesto un contributo di €15\, comprensivo di spese organizzative e copertura assicurativa.
URL:https://www.caisalo.it/event/notturna-al-pizzocolo/
CATEGORIES:Gita Escursionistica
END:VEVENT
BEGIN:VEVENT
DTSTART;VALUE=DATE:20260329
DTEND;VALUE=DATE:20260330
DTSTAMP:20260419T211643
CREATED:20260131T154002Z
LAST-MODIFIED:20260131T154627Z
UID:12069-1774742400-1774828799@www.caisalo.it
SUMMARY:Festa di Primavera a Cascina Fassane
DESCRIPTION:Ritrovo: ore 5.45 – Centro Agricolo Salò \n			\n				\n				\n				\n				\n				 Dislivello: \n			\n				\n				\n				\n				\n				 Durata: \n			\n				\n				\n				\n				\n				 Difficoltà: \n			\n				\n				\n				\n				\n				 Coordinatore: \n			\n				\n				\n				\n				\n				Descrizione \n			\n				\n				\n				\n				\n				Importante\n\nLa partecipazione implica la piena conoscenza e accettazione del regolamento gite CAI Salò .\nPer i non soci CAI è richiesto un contributo di €15\, comprensivo di spese organizzative e copertura assicurativa.
URL:https://www.caisalo.it/event/festa-di-primavera-a-cascina-fassane/
CATEGORIES:Gita Escursionistica
ORGANIZER;CN="Cai Salo'":MAILTO:caisalo@libero.it
END:VEVENT
BEGIN:VEVENT
DTSTART;VALUE=DATE:20260322
DTEND;VALUE=DATE:20260323
DTSTAMP:20260419T211643
CREATED:20260131T153958Z
LAST-MODIFIED:20260131T154606Z
UID:12068-1774137600-1774223999@www.caisalo.it
SUMMARY:Speleologia in Cariadeghe
DESCRIPTION:Ritrovo: ore 5.45 – Centro Agricolo Salò \n			\n				\n				\n				\n				\n				 Dislivello: \n			\n				\n				\n				\n				\n				 Durata: \n			\n				\n				\n				\n				\n				 Difficoltà: \n			\n				\n				\n				\n				\n				 Coordinatore: \n			\n				\n				\n				\n				\n				Descrizione \n			\n				\n				\n				\n				\n				Importante\n\nLa partecipazione implica la piena conoscenza e accettazione del regolamento gite CAI Salò .\nPer i non soci CAI è richiesto un contributo di €15\, comprensivo di spese organizzative e copertura assicurativa.
URL:https://www.caisalo.it/event/speleologia-in-cariadeghe/
CATEGORIES:Gita Escursionistica
END:VEVENT
BEGIN:VEVENT
DTSTART;VALUE=DATE:20260315
DTEND;VALUE=DATE:20260316
DTSTAMP:20260419T211643
CREATED:20260131T153958Z
LAST-MODIFIED:20260131T154600Z
UID:12067-1773532800-1773619199@www.caisalo.it
SUMMARY:Sentiero della Resistenza nr. 4
DESCRIPTION:Ritrovo: ore 5.45 – Centro Agricolo Salò \n			\n				\n				\n				\n				\n				 Dislivello: \n			\n				\n				\n				\n				\n				 Durata: \n			\n				\n				\n				\n				\n				 Difficoltà: \n			\n				\n				\n				\n				\n				 Coordinatore: \n			\n				\n				\n				\n				\n				Descrizione \n			\n				\n				\n				\n				\n				Importante\n\nLa partecipazione implica la piena conoscenza e accettazione del regolamento gite CAI Salò .\nPer i non soci CAI è richiesto un contributo di €15\, comprensivo di spese organizzative e copertura assicurativa.
URL:https://www.caisalo.it/event/sentiero-della-resistenza-nr-4/
CATEGORIES:Gita Escursionistica
END:VEVENT
BEGIN:VEVENT
DTSTART;VALUE=DATE:20260307
DTEND;VALUE=DATE:20260309
DTSTAMP:20260419T211643
CREATED:20260131T153957Z
LAST-MODIFIED:20260131T154555Z
UID:12066-1772841600-1773014399@www.caisalo.it
SUMMARY:Weekend alle Cinque Terre
DESCRIPTION:Ritrovo: ore 5.45 – Centro Agricolo Salò \n			\n				\n				\n				\n				\n				 Dislivello: \n			\n				\n				\n				\n				\n				 Durata: \n			\n				\n				\n				\n				\n				 Difficoltà: \n			\n				\n				\n				\n				\n				 Coordinatore: \n			\n				\n				\n				\n				\n				Descrizione \n			\n				\n				\n				\n				\n				Importante\n\nLa partecipazione implica la piena conoscenza e accettazione del regolamento gite CAI Salò .\nPer i non soci CAI è richiesto un contributo di €15\, comprensivo di spese organizzative e copertura assicurativa.
URL:https://www.caisalo.it/event/weekend-alle-cinque-terre/
CATEGORIES:Gita Escursionistica
END:VEVENT
BEGIN:VEVENT
DTSTART;VALUE=DATE:20260222
DTEND;VALUE=DATE:20260223
DTSTAMP:20260419T211643
CREATED:20260131T153957Z
LAST-MODIFIED:20260131T154550Z
UID:12065-1771718400-1771804799@www.caisalo.it
SUMMARY:Corna Trentapassi
DESCRIPTION:Ritrovo: ore 5.45 – Centro Agricolo Salò \n			\n				\n				\n				\n				\n				 Dislivello: \n			\n				\n				\n				\n				\n				 Durata: \n			\n				\n				\n				\n				\n				 Difficoltà: \n			\n				\n				\n				\n				\n				 Coordinatore: \n			\n				\n				\n				\n				\n				Descrizione \n			\n				\n				\n				\n				\n				Importante\n\nLa partecipazione implica la piena conoscenza e accettazione del regolamento gite CAI Salò .\nPer i non soci CAI è richiesto un contributo di €15\, comprensivo di spese organizzative e copertura assicurativa.
URL:https://www.caisalo.it/event/corna-trentapassi-2/
CATEGORIES:Gita Escursionistica
END:VEVENT
BEGIN:VEVENT
DTSTART;VALUE=DATE:20260215
DTEND;VALUE=DATE:20260216
DTSTAMP:20260419T211643
CREATED:20260131T153956Z
LAST-MODIFIED:20260131T154507Z
UID:12064-1771113600-1771199999@www.caisalo.it
SUMMARY:Ciaspolata al Monte Vigo
DESCRIPTION:Ritrovo: ore 5.45 – Centro Agricolo Salò \n			\n				\n				\n				\n				\n				 Dislivello: \n			\n				\n				\n				\n				\n				 Durata: \n			\n				\n				\n				\n				\n				 Difficoltà: \n			\n				\n				\n				\n				\n				 Coordinatore: \n			\n				\n				\n				\n				\n				Descrizione \n			\n				\n				\n				\n				\n				Importante\n\nLa partecipazione implica la piena conoscenza e accettazione del regolamento gite CAI Salò .\nPer i non soci CAI è richiesto un contributo di €15\, comprensivo di spese organizzative e copertura assicurativa.
URL:https://www.caisalo.it/event/ciaspolata-al-monte-vigo/
CATEGORIES:Gita Escursionistica
END:VEVENT
BEGIN:VEVENT
DTSTART;VALUE=DATE:20260208
DTEND;VALUE=DATE:20260209
DTSTAMP:20260419T211643
CREATED:20260128T202551Z
LAST-MODIFIED:20260129T031128Z
UID:12010-1770508800-1770595199@www.caisalo.it
SUMMARY:Monte Cas
DESCRIPTION:Ritrovo: ore 5.45 – Centro Agricolo Salò \n			\n				\n				\n				\n				\n				 Dislivello: \n			\n				\n				\n				\n				\n				 Durata: \n			\n				\n				\n				\n				\n				 Difficoltà: \n			\n				\n				\n				\n				\n				 Coordinatore: \n			\n				\n				\n				\n				\n				Descrizione \n			\n				\n				\n				\n				\n				Importante\n\nLa partecipazione implica la piena conoscenza e accettazione del regolamento gite CAI Salò .\nPer i non soci CAI è richiesto un contributo di €15\, comprensivo di spese organizzative e copertura assicurativa.
URL:https://www.caisalo.it/event/monte-cas/
CATEGORIES:Gita Escursionistica
END:VEVENT
BEGIN:VEVENT
DTSTART;VALUE=DATE:20260201
DTEND;VALUE=DATE:20260202
DTSTAMP:20260419T211643
CREATED:20260128T202551Z
LAST-MODIFIED:20260129T030907Z
UID:12009-1769904000-1769990399@www.caisalo.it
SUMMARY:Ciaspolata Monte Campioncino
DESCRIPTION:Ritrovo: ore 5.45 – Centro Agricolo Salò \n			\n				\n				\n				\n				\n				 Dislivello: \n			\n				\n				\n				\n				\n				 Durata: \n			\n				\n				\n				\n				\n				 Difficoltà: \n			\n				\n				\n				\n				\n				 Coordinatore: \n			\n				\n				\n				\n				\n				Descrizione \n			\n				\n				\n				\n				\n				Importante\n\nLa partecipazione implica la piena conoscenza e accettazione del regolamento gite CAI Salò .\nPer i non soci CAI è richiesto un contributo di €15\, comprensivo di spese organizzative e copertura assicurativa.
URL:https://www.caisalo.it/event/ciaspolata-monte-campioncino/
CATEGORIES:Gita Escursionistica
END:VEVENT
BEGIN:VEVENT
DTSTART;VALUE=DATE:20260118
DTEND;VALUE=DATE:20260119
DTSTAMP:20260419T211643
CREATED:20260102T183235Z
LAST-MODIFIED:20260105T143548Z
UID:10880-1768694400-1768780799@www.caisalo.it
SUMMARY:Ciaspolata alle cascate di Vallesinella
DESCRIPTION: Ciaspolata alle cascate di Vallesinella \n			\n				\n				\n				\n				\n				 Domenica 18 Gennaio 2026 \n			\n				\n				\n				\n				\n				\n			\n				\n				\n				\n				\n				 Ritrovo: ore 5.45 – Centro Agricolo Salò \n			\n				\n				\n				\n				\n				 Dislivello: 700 m\n			\n				\n				\n				\n				\n				 Durata: 6–7 ore – 12 km\n			\n				\n				\n				\n				\n				 Difficoltà: EAI\n			\n				\n				\n				\n				\n				 Coordinatore: Monica Fucina\n			\n				\n				\n				\n				\n				Descrizione\nLe cascate di Vallesinella con la neve offrono uno spettacolo mozzafiato\, trasformandosi in sculture di ghiaccio\, ma l’escursione richiede attrezzatura adeguata come ciaspole (in caso di neve fresca) e ramponcini per i tratti ghiacciati\, specialmente per avvicinarsi dietro lecascate.Si parte da prato della casa (Vallesinella) e si segue il sentiero che si snoda tra boschi innevati fino alle cascate ghiacciate di mezzo ed alte.Dalle cascate si prosegue verso il rifugio Casinei per poi ritornare con un giro ad anello a Prato della casa. \n			\n				\n				\n				\n				\n				Importante\nÈ richiesta attrezzatura adeguata: ciaspole in caso di neve fresca e ramponcini per tratti ghiacciati\, specialmente per avvicinarsi dietro le cascate!
URL:https://www.caisalo.it/event/ciaspolata-cascate-di-vallesinella/
LOCATION:Centro Agricolo di Salò
CATEGORIES:Gita Escursionistica
END:VEVENT
BEGIN:VEVENT
DTSTART;VALUE=DATE:20260111
DTEND;VALUE=DATE:20260112
DTSTAMP:20260419T211643
CREATED:20260103T202744Z
LAST-MODIFIED:20260103T204741Z
UID:11018-1768089600-1768175999@www.caisalo.it
SUMMARY:Giro del lago di Ledro
DESCRIPTION: Giro del lago di Ledro \n			\n				\n				\n				\n				\n				 Domenica 11 Gennaio 2026 \n			\n				\n				\n				\n				\n				\n			\n				\n				\n				\n				\n				 Ritrovo: ore 7:45 – Centro Agricolo Salò \n			\n				\n				\n				\n				\n				 Dislivello: 250 m \n			\n				\n				\n				\n				\n				 Durata: 4 ore – 10 km \n			\n				\n				\n				\n				\n				 Difficoltà: E \n			\n				\n				\n				\n				\n				 Coordinatore: Eros Pomarè \n			\n				\n				\n				\n				\n				Descrizione\nFacile escursione intorno al Lago di Ledro\, circa 10km. In senso orario\, alternando dei sentieri con dei tratti di asfalto e parte della ciclabile. A pranzo ci fermiamo alla Steakhuose Pizzeria a Molina di Ledro. Menù libero. Al termine\, opzionale\, una breve passeggiata alla Chiesa dell’Addolorata. Rientro previsto per metà pomeriggio. \n			\n				\n				\n				\n				\n				Importante\nLa partecipazione implica la piena conoscenza e accettazione del regolamento gite CAI Salò. \nPer i non soci CAI è richiesto un contributo di € 15\, comprensivo di spese organizzative e copertura assicurativa.
URL:https://www.caisalo.it/event/giro-del-lago-di-ledro/
LOCATION:Centro Agricolo di Salò
CATEGORIES:Gita Escursionistica
END:VEVENT
END:VCALENDAR