BEGIN:VCALENDAR
VERSION:2.0
PRODID:-//CAI Salò - ECPv6.8.3//NONSGML v1.0//EN
CALSCALE:GREGORIAN
METHOD:PUBLISH
X-ORIGINAL-URL:https://www.caisalo.it
X-WR-CALDESC:Eventi per CAI Salò
REFRESH-INTERVAL;VALUE=DURATION:PT1H
X-Robots-Tag:noindex
X-PUBLISHED-TTL:PT1H
BEGIN:VTIMEZONE
TZID:Europe/Rome
BEGIN:DAYLIGHT
TZOFFSETFROM:+0100
TZOFFSETTO:+0200
TZNAME:CEST
DTSTART:20260329T010000
END:DAYLIGHT
BEGIN:STANDARD
TZOFFSETFROM:+0200
TZOFFSETTO:+0100
TZNAME:CET
DTSTART:20261025T010000
END:STANDARD
END:VTIMEZONE
BEGIN:VEVENT
DTSTART;VALUE=DATE:20260222
DTEND;VALUE=DATE:20260223
DTSTAMP:20260420T032542
CREATED:20260131T153957Z
LAST-MODIFIED:20260131T154550Z
UID:12065-1771718400-1771804799@www.caisalo.it
SUMMARY:Corna Trentapassi
DESCRIPTION:Ritrovo: ore 5.45 – Centro Agricolo Salò \n			\n				\n				\n				\n				\n				 Dislivello: \n			\n				\n				\n				\n				\n				 Durata: \n			\n				\n				\n				\n				\n				 Difficoltà: \n			\n				\n				\n				\n				\n				 Coordinatore: \n			\n				\n				\n				\n				\n				Descrizione \n			\n				\n				\n				\n				\n				Importante\n\nLa partecipazione implica la piena conoscenza e accettazione del regolamento gite CAI Salò .\nPer i non soci CAI è richiesto un contributo di €15\, comprensivo di spese organizzative e copertura assicurativa.
URL:https://www.caisalo.it/event/corna-trentapassi-2/
CATEGORIES:Gita Escursionistica
END:VEVENT
END:VCALENDAR